BEGIN:VCALENDAR
VERSION:2.0
PRODID:-//Beehives Curacao - ECPv6.15.18//NONSGML v1.0//EN
CALSCALE:GREGORIAN
METHOD:PUBLISH
X-WR-CALNAME:Beehives Curacao
X-ORIGINAL-URL:https://www.beehivescuracao.com
X-WR-CALDESC:Events for Beehives Curacao
REFRESH-INTERVAL;VALUE=DURATION:PT1H
X-Robots-Tag:noindex
X-PUBLISHED-TTL:PT1H
BEGIN:VTIMEZONE
TZID:America/Curacao
BEGIN:STANDARD
TZOFFSETFROM:-0400
TZOFFSETTO:-0400
TZNAME:AST
DTSTART:20230101T000000
END:STANDARD
END:VTIMEZONE
BEGIN:VEVENT
DTSTART;TZID=America/Curacao:20241228T220000
DTEND;TZID=America/Curacao:20241229T040000
DTSTAMP:20260419T130744
CREATED:20241204T181347Z
LAST-MODIFIED:20241229T144604Z
UID:10000006-1735423200-1735444800@www.beehivescuracao.com
SUMMARY:CON SONIDO - Bulin 47 & Dj Adonis
DESCRIPTION:
URL:https://www.beehivescuracao.com/event/con-sonido-bulin-47-dj-adonis/
LOCATION:Curacao Airport Dome\, Curaçao
ORGANIZER;CN="Beehives Events Curacao":MAILTO:info@beehivescuracao.com
END:VEVENT
END:VCALENDAR