BEGIN:VCALENDAR
VERSION:2.0
PRODID:-//Beehives Curacao - ECPv6.15.18//NONSGML v1.0//EN
CALSCALE:GREGORIAN
METHOD:PUBLISH
X-WR-CALNAME:Beehives Curacao
X-ORIGINAL-URL:https://www.beehivescuracao.com
X-WR-CALDESC:Events for Beehives Curacao
REFRESH-INTERVAL;VALUE=DURATION:PT1H
X-Robots-Tag:noindex
X-PUBLISHED-TTL:PT1H
BEGIN:VTIMEZONE
TZID:America/Halifax
BEGIN:DAYLIGHT
TZOFFSETFROM:-0400
TZOFFSETTO:-0300
TZNAME:ADT
DTSTART:20230312T060000
END:DAYLIGHT
BEGIN:STANDARD
TZOFFSETFROM:-0300
TZOFFSETTO:-0400
TZNAME:AST
DTSTART:20231105T050000
END:STANDARD
BEGIN:DAYLIGHT
TZOFFSETFROM:-0400
TZOFFSETTO:-0300
TZNAME:ADT
DTSTART:20240310T060000
END:DAYLIGHT
BEGIN:STANDARD
TZOFFSETFROM:-0300
TZOFFSETTO:-0400
TZNAME:AST
DTSTART:20241103T050000
END:STANDARD
BEGIN:DAYLIGHT
TZOFFSETFROM:-0400
TZOFFSETTO:-0300
TZNAME:ADT
DTSTART:20250309T060000
END:DAYLIGHT
BEGIN:STANDARD
TZOFFSETFROM:-0300
TZOFFSETTO:-0400
TZNAME:AST
DTSTART:20251102T050000
END:STANDARD
END:VTIMEZONE
BEGIN:VEVENT
DTSTART;TZID=America/Halifax:20241224T235900
DTEND;TZID=America/Halifax:20241225T060000
DTSTAMP:20260419T131707
CREATED:20241107T043820Z
LAST-MODIFIED:20241219T114542Z
UID:10000002-1735084740-1735106400@www.beehivescuracao.com
SUMMARY:Noche Buena - Shenseea
DESCRIPTION:
URL:https://www.beehivescuracao.com/event/noche-buena/
LOCATION:Curacao Airport Dome\, Curaçao
ORGANIZER;CN="Beehives Events Curacao":MAILTO:info@beehivescuracao.com
END:VEVENT
END:VCALENDAR